Package: WGSmapp Version: 1.14.0 Maintainer: Rujin Wang MaintainerEmail: rujin at email.unc.edu git_url: https://git.bioconductor.org/packages/WGSmapp git_branch: RELEASE_3_18 git_last_commit: ed78a34 git_last_commit_date: 2023-10-24 09:20:33 -0400 (Tue, 24 Oct 2023)