Package: WGSmapp Version: 1.14.0 Command: /home/biocbuild/bbs-3.18-bioc/R/bin/R CMD build --keep-empty-dirs --no-resave-data WGSmapp StartedAt: 2024-04-16 10:58:58 -0400 (Tue, 16 Apr 2024) EndedAt: 2024-04-16 10:59:18 -0400 (Tue, 16 Apr 2024) EllapsedTime: 20.6 seconds RetCode: 0 Status: OK PackageFile: WGSmapp_1.14.0.tar.gz PackageFileSize: 195.7 MiB