Package: WGSmapp Version: 1.14.0 Command: /home/biocbuild/bbs-3.18-bioc/R/bin/R CMD INSTALL WGSmapp StartedAt: 2024-04-16 10:05:33 -0400 (Tue, 16 Apr 2024) EndedAt: 2024-04-16 10:06:43 -0400 (Tue, 16 Apr 2024) EllapsedTime: 70.3 seconds RetCode: 0 Status: OK