Package: breastCancerTRANSBIG Version: 1.40.0 Command: /home/biocbuild/bbs-3.18-bioc/R/bin/R CMD build --keep-empty-dirs --no-resave-data breastCancerTRANSBIG StartedAt: 2024-04-16 10:15:58 -0400 (Tue, 16 Apr 2024) EndedAt: 2024-04-16 10:16:02 -0400 (Tue, 16 Apr 2024) EllapsedTime: 4.0 seconds RetCode: 0 Status: OK PackageFile: breastCancerTRANSBIG_1.40.0.tar.gz PackageFileSize: 34.48 MiB