Package: cancerdata Version: 1.40.0 Maintainer: Daniel Kosztyla MaintainerEmail: danielkossi at hotmail.com git_url: https://git.bioconductor.org/packages/cancerdata git_branch: RELEASE_3_18 git_last_commit: 83e46f5 git_last_commit_date: 2023-10-24 08:58:12 -0400 (Tue, 24 Oct 2023)