Package: cancerdata Version: 1.40.0 Command: /home/biocbuild/bbs-3.18-bioc/R/bin/R CMD check --install=check:cancerdata.install-out.txt --library=/home/biocbuild/bbs-3.18-bioc/R/site-library --timings cancerdata_1.40.0.tar.gz StartedAt: 2024-04-16 11:06:47 -0400 (Tue, 16 Apr 2024) EndedAt: 2024-04-16 11:07:14 -0400 (Tue, 16 Apr 2024) EllapsedTime: 26.3 seconds RetCode: 0 Status: OK CheckDir: cancerdata.Rcheck Warnings: 0