Package: ccdata
Version: 1.28.0
Command: /home/biocbuild/bbs-3.18-bioc/R/bin/R CMD INSTALL ccdata
StartedAt: 2024-04-16 10:00:54 -0400 (Tue, 16 Apr 2024)
EndedAt: 2024-04-16 10:00:58 -0400 (Tue, 16 Apr 2024)
EllapsedTime: 3.5 seconds
RetCode: 0
Status: OK