Package: curatedBladderData Version: 1.38.0 Maintainer: Markus Riester MaintainerEmail: markus at jimmy.harvard.edu git_url: https://git.bioconductor.org/packages/curatedBladderData git_branch: RELEASE_3_18 git_last_commit: 4d4c2f7 git_last_commit_date: 2023-10-24 09:06:24 -0400 (Tue, 24 Oct 2023)