Package: curatedTBData Version: 1.8.0 Command: /home/biocbuild/bbs-3.18-bioc/R/bin/R CMD check --install=check:curatedTBData.install-out.txt --library=/home/biocbuild/bbs-3.18-bioc/R/site-library --timings curatedTBData_1.8.0.tar.gz StartedAt: 2024-04-16 11:17:11 -0400 (Tue, 16 Apr 2024) EndedAt: 2024-04-16 11:25:37 -0400 (Tue, 16 Apr 2024) EllapsedTime: 505.9 seconds RetCode: 0 Status: OK CheckDir: curatedTBData.Rcheck Warnings: 0