Package: curatedTCGAData Version: 1.24.1 Command: /home/biocbuild/bbs-3.18-bioc/R/bin/R CMD build --keep-empty-dirs --no-resave-data curatedTCGAData StartedAt: 2024-04-16 10:22:46 -0400 (Tue, 16 Apr 2024) EndedAt: 2024-04-16 10:24:03 -0400 (Tue, 16 Apr 2024) EllapsedTime: 77.6 seconds RetCode: 0 Status: OK PackageFile: curatedTCGAData_1.24.1.tar.gz PackageFileSize: 416.5 KiB