Package: dorothea Version: 1.14.1 Command: /home/biocbuild/bbs-3.18-bioc/R/bin/R CMD INSTALL dorothea StartedAt: 2024-04-16 10:02:05 -0400 (Tue, 16 Apr 2024) EndedAt: 2024-04-16 10:02:46 -0400 (Tue, 16 Apr 2024) EllapsedTime: 41.9 seconds RetCode: 0 Status: OK