Package: etec16s Version: 1.30.0 Maintainer: Joseph N. Paulson MaintainerEmail: jpaulson at jimmy.harvard.edu git_url: https://git.bioconductor.org/packages/etec16s git_branch: RELEASE_3_18 git_last_commit: 61dee1a git_last_commit_date: 2023-10-24 09:14:20 -0400 (Tue, 24 Oct 2023)