Package: etec16s Version: 1.30.0 Command: /home/biocbuild/bbs-3.18-bioc/R/bin/R CMD build --keep-empty-dirs --no-resave-data etec16s StartedAt: 2024-04-16 10:26:40 -0400 (Tue, 16 Apr 2024) EndedAt: 2024-04-16 10:26:48 -0400 (Tue, 16 Apr 2024) EllapsedTime: 8.4 seconds RetCode: 0 Status: OK PackageFile: etec16s_1.30.0.tar.gz PackageFileSize: 234.2 KiB