Package: etec16s Version: 1.30.0 Command: /home/biocbuild/bbs-3.18-bioc/R/bin/R CMD check --install=check:etec16s.install-out.txt --library=/home/biocbuild/bbs-3.18-bioc/R/site-library --timings etec16s_1.30.0.tar.gz StartedAt: 2024-04-16 11:27:19 -0400 (Tue, 16 Apr 2024) EndedAt: 2024-04-16 11:27:57 -0400 (Tue, 16 Apr 2024) EllapsedTime: 37.7 seconds RetCode: 0 Status: OK CheckDir: etec16s.Rcheck Warnings: 0