Package: etec16s Version: 1.30.0 Command: /home/biocbuild/bbs-3.18-bioc/R/bin/R CMD INSTALL etec16s StartedAt: 2024-04-16 10:02:00 -0400 (Tue, 16 Apr 2024) EndedAt: 2024-04-16 10:02:06 -0400 (Tue, 16 Apr 2024) EllapsedTime: 5.9 seconds RetCode: 0 Status: OK