Package: fabiaData Version: 1.40.0 Command: /home/biocbuild/bbs-3.18-bioc/R/bin/R CMD build --keep-empty-dirs --no-resave-data fabiaData StartedAt: 2024-04-16 10:27:03 -0400 (Tue, 16 Apr 2024) EndedAt: 2024-04-16 10:27:09 -0400 (Tue, 16 Apr 2024) EllapsedTime: 6.0 seconds RetCode: 0 Status: OK PackageFile: fabiaData_1.40.0.tar.gz PackageFileSize: 4.475 MiB