Package: frmaExampleData
Version: 1.38.0
Command: /home/biocbuild/bbs-3.18-bioc/R/bin/R CMD build --keep-empty-dirs --no-resave-data frmaExampleData
StartedAt: 2024-04-16 10:29:42 -0400 (Tue, 16 Apr 2024)
EndedAt: 2024-04-16 10:29:46 -0400 (Tue, 16 Apr 2024)
EllapsedTime: 4.0 seconds
RetCode: 0
Status: OK
PackageFile: frmaExampleData_1.38.0.tar.gz
PackageFileSize: 15.88 <A href="http://en.wikipedia.org/wiki/MiB" target="_blank">MiB</A>