Package: gDNAinRNAseqData Version: 1.2.0 Maintainer: Robert Castelo MaintainerEmail: robert.castelo at upf.edu git_url: https://git.bioconductor.org/packages/gDNAinRNAseqData git_branch: RELEASE_3_18 git_last_commit: 596b0a8 git_last_commit_date: 2023-10-24 09:24:20 -0400 (Tue, 24 Oct 2023)