Package: hapmap500ksty Version: 1.44.0 Maintainer: Benilton Carvalho MaintainerEmail: Benilton.Carvalho at cancer.org.uk git_url: https://git.bioconductor.org/packages/hapmap500ksty git_branch: RELEASE_3_18 git_last_commit: ee58e13 git_last_commit_date: 2023-10-24 08:55:02 -0400 (Tue, 24 Oct 2023)