Package: hapmap500ksty Version: 1.44.0 Command: /home/biocbuild/bbs-3.18-bioc/R/bin/R CMD build --keep-empty-dirs --no-resave-data hapmap500ksty StartedAt: 2024-04-16 10:32:03 -0400 (Tue, 16 Apr 2024) EndedAt: 2024-04-16 10:34:39 -0400 (Tue, 16 Apr 2024) EllapsedTime: 155.4 seconds RetCode: 0 Status: OK PackageFile: hapmap500ksty_1.44.0.tar.gz PackageFileSize: 77.63 MiB