Package: healthyFlowData Version: 1.40.0 Maintainer: Ariful Azad MaintainerEmail: aazad at purdue.edu git_url: https://git.bioconductor.org/packages/healthyFlowData git_branch: RELEASE_3_18 git_last_commit: c2360e9 git_last_commit_date: 2023-10-24 09:07:17 -0400 (Tue, 24 Oct 2023)