Package: lydata Version: 1.28.0 Command: /home/biocbuild/bbs-3.18-bioc/R/bin/R CMD build --keep-empty-dirs --no-resave-data lydata StartedAt: 2024-04-16 10:38:40 -0400 (Tue, 16 Apr 2024) EndedAt: 2024-04-16 10:41:24 -0400 (Tue, 16 Apr 2024) EllapsedTime: 163.6 seconds RetCode: 0 Status: OK PackageFile: lydata_1.28.0.tar.gz PackageFileSize: 158.9 MiB