Package: mAPKLData Version: 1.34.0 Maintainer: Argiris Sakellariou MaintainerEmail: a.sakellariou at gonkhosp.gr git_url: https://git.bioconductor.org/packages/mAPKLData git_branch: RELEASE_3_18 git_last_commit: 6620a67 git_last_commit_date: 2023-10-24 09:09:35 -0400 (Tue, 24 Oct 2023)