Package: mAPKLData Version: 1.34.0 Command: /home/biocbuild/bbs-3.18-bioc/R/bin/R CMD build --keep-empty-dirs --no-resave-data mAPKLData StartedAt: 2024-04-16 10:39:00 -0400 (Tue, 16 Apr 2024) EndedAt: 2024-04-16 10:39:01 -0400 (Tue, 16 Apr 2024) EllapsedTime: 1.0 seconds RetCode: 0 Status: OK PackageFile: mAPKLData_1.34.0.tar.gz PackageFileSize: 9.064 MiB