Package: mAPKLData Version: 1.34.0 Command: /home/biocbuild/bbs-3.18-bioc/R/bin/R CMD check --install=check:mAPKLData.install-out.txt --library=/home/biocbuild/bbs-3.18-bioc/R/site-library --timings mAPKLData_1.34.0.tar.gz StartedAt: 2024-04-16 11:49:40 -0400 (Tue, 16 Apr 2024) EndedAt: 2024-04-16 11:49:54 -0400 (Tue, 16 Apr 2024) EllapsedTime: 14.1 seconds RetCode: 0 Status: WARNINGS CheckDir: mAPKLData.Rcheck Warnings: 1