Package: mCSEAdata Version: 1.22.0 Command: /home/biocbuild/bbs-3.18-bioc/R/bin/R CMD check --install=check:mCSEAdata.install-out.txt --library=/home/biocbuild/bbs-3.18-bioc/R/site-library --timings mCSEAdata_1.22.0.tar.gz StartedAt: 2024-04-16 11:49:54 -0400 (Tue, 16 Apr 2024) EndedAt: 2024-04-16 11:50:34 -0400 (Tue, 16 Apr 2024) EllapsedTime: 39.5 seconds RetCode: 0 Status: OK CheckDir: mCSEAdata.Rcheck Warnings: 0