Package: mCSEAdata Version: 1.22.0 Command: /home/biocbuild/bbs-3.18-bioc/R/bin/R CMD INSTALL mCSEAdata StartedAt: 2024-04-16 10:05:36 -0400 (Tue, 16 Apr 2024) EndedAt: 2024-04-16 10:06:40 -0400 (Tue, 16 Apr 2024) EllapsedTime: 63.2 seconds RetCode: 0 Status: OK