Package: metaMSdata Version: 1.38.0 Maintainer: Yann Guitton MaintainerEmail: yann.guitton at gmail.com git_url: https://git.bioconductor.org/packages/metaMSdata git_branch: RELEASE_3_18 git_last_commit: cdf4625 git_last_commit_date: 2023-10-24 09:07:55 -0400 (Tue, 24 Oct 2023)