Package: orthosData Version: 1.0.0 Maintainer: Panagiotis Papasaikas MaintainerEmail: panagiotis.papasaikas at fmi.ch git_url: https://git.bioconductor.org/packages/orthosData git_branch: RELEASE_3_18 git_last_commit: b14e691 git_last_commit_date: 2023-10-24 09:24:38 -0400 (Tue, 24 Oct 2023)