Package: orthosData Version: 1.0.0 Command: /home/biocbuild/bbs-3.18-bioc/R/bin/R CMD build --keep-empty-dirs --no-resave-data orthosData StartedAt: 2024-04-16 10:45:30 -0400 (Tue, 16 Apr 2024) EndedAt: 2024-04-16 10:46:09 -0400 (Tue, 16 Apr 2024) EllapsedTime: 38.8 seconds RetCode: 0 Status: OK PackageFile: orthosData_1.0.0.tar.gz PackageFileSize: 312 KiB