Package: pRolocdata Version: 1.40.0 Maintainer: Laurent Gatto MaintainerEmail: laurent.gatto at uclouvain.be git_url: https://git.bioconductor.org/packages/pRolocdata git_branch: RELEASE_3_18 git_last_commit: f562738 git_last_commit_date: 2023-10-24 09:04:32 -0400 (Tue, 24 Oct 2023)