Package: rRDPData Version: 1.22.0 Maintainer: Michael Hahsler MaintainerEmail: mhahsler at lyle.smu.edu git_url: https://git.bioconductor.org/packages/rRDPData git_branch: RELEASE_3_18 git_last_commit: 1b0000d git_last_commit_date: 2023-10-24 09:09:08 -0400 (Tue, 24 Oct 2023)