Package: seq2pathway.data Version: 1.34.0 Maintainer: Arjun Kinstlick MaintainerEmail: akinstlick at uchicago.edu git_url: https://git.bioconductor.org/packages/seq2pathway.data git_branch: RELEASE_3_18 git_last_commit: ba45f9b git_last_commit_date: 2023-10-24 09:09:39 -0400 (Tue, 24 Oct 2023)