Package: seventyGeneData Version: 1.38.2 Maintainer: Luigi Marchionni MaintainerEmail: lum403 at med.cornell.edu git_url: https://git.bioconductor.org/packages/seventyGeneData git_branch: RELEASE_3_18 git_last_commit: 9f12dd9 git_last_commit_date: 2023-12-04 12:11:53 -0400 (Mon, 04 Dec 2023)