Package: signatureSearchData Version: 1.16.0 Command: /home/biocbuild/bbs-3.18-bioc/R/bin/R CMD INSTALL signatureSearchData StartedAt: 2024-04-16 10:04:41 -0400 (Tue, 16 Apr 2024) EndedAt: 2024-04-16 10:04:46 -0400 (Tue, 16 Apr 2024) EllapsedTime: 4.9 seconds RetCode: 0 Status: OK