Package: stemHypoxia Version: 1.38.0 Command: /home/biocbuild/bbs-3.18-bioc/R/bin/R CMD check --install=check:stemHypoxia.install-out.txt --library=/home/biocbuild/bbs-3.18-bioc/R/site-library --timings stemHypoxia_1.38.0.tar.gz StartedAt: 2024-04-16 12:23:54 -0400 (Tue, 16 Apr 2024) EndedAt: 2024-04-16 12:24:05 -0400 (Tue, 16 Apr 2024) EllapsedTime: 11.3 seconds RetCode: 0 Status: OK CheckDir: stemHypoxia.Rcheck Warnings: 0