Package: stemHypoxia Version: 1.38.0 Command: /home/biocbuild/bbs-3.18-bioc/R/bin/R CMD INSTALL stemHypoxia StartedAt: 2024-04-16 10:01:11 -0400 (Tue, 16 Apr 2024) EndedAt: 2024-04-16 10:01:11 -0400 (Tue, 16 Apr 2024) EllapsedTime: 0.9 seconds RetCode: 0 Status: OK