Package: synapterdata Version: 1.40.0 Command: /home/biocbuild/bbs-3.18-bioc/R/bin/R CMD check --install=check:synapterdata.install-out.txt --library=/home/biocbuild/bbs-3.18-bioc/R/site-library --timings synapterdata_1.40.0.tar.gz StartedAt: 2024-04-16 12:24:29 -0400 (Tue, 16 Apr 2024) EndedAt: 2024-04-16 12:28:32 -0400 (Tue, 16 Apr 2024) EllapsedTime: 243.0 seconds RetCode: 0 Status: OK CheckDir: synapterdata.Rcheck Warnings: 0