Package: BiocMetaWorkflow
Version: 1.24.0
Command: /Library/Frameworks/R.framework/Resources/bin/R CMD build --keep-empty-dirs --no-resave-data BiocMetaWorkflow
StartedAt: 2024-03-01 11:02:31 -0500 (Fri, 01 Mar 2024)
EndedAt: 2024-03-01 11:02:36 -0500 (Fri, 01 Mar 2024)
EllapsedTime: 4.5 seconds
RetCode: 1
Status: ERROR
PackageFile: None
PackageFileSize: NA