Package: BiocMetaWorkflow Version: 1.24.0 Command: /Library/Frameworks/R.framework/Resources/bin/R CMD INSTALL BiocMetaWorkflow StartedAt: 2024-03-01 11:00:10 -0500 (Fri, 01 Mar 2024) EndedAt: 2024-03-01 11:00:15 -0500 (Fri, 01 Mar 2024) EllapsedTime: 5.0 seconds RetCode: 0 Status: OK