Package: BiocMetaWorkflow
Version: 1.24.0
Command: chmod a+r BiocMetaWorkflow -R && F:\biocbuild\bbs-3.18-bioc\R\bin\R.exe CMD build --keep-empty-dirs --no-resave-data BiocMetaWorkflow
StartedAt: 2024-04-16 11:05:21 -0400 (Tue, 16 Apr 2024)
EndedAt: 2024-04-16 11:05:37 -0400 (Tue, 16 Apr 2024)
EllapsedTime: 16.3 seconds
RetCode: 0
Status: OK
PackageFile: BiocMetaWorkflow_1.24.0.tar.gz
PackageFileSize: 401.4 <A href="http://en.wikipedia.org/wiki/KiB" target="_blank">KiB</A>