Package: ExpressionNormalizationWorkflow Version: 1.28.0 Command: /Library/Frameworks/R.framework/Resources/bin/R CMD INSTALL ExpressionNormalizationWorkflow StartedAt: 2024-04-16 11:01:20 -0400 (Tue, 16 Apr 2024) EndedAt: 2024-04-16 11:02:29 -0400 (Tue, 16 Apr 2024) EllapsedTime: 69.3 seconds RetCode: 0 Status: OK