Package: TCGAWorkflow
Version: 1.26.0
Command: chmod a+r TCGAWorkflow -R && F:\biocbuild\bbs-3.18-bioc\R\bin\R.exe CMD build --keep-empty-dirs --no-resave-data TCGAWorkflow
StartedAt: 2024-04-16 11:13:10 -0400 (Tue, 16 Apr 2024)
EndedAt: 2024-04-16 11:44:04 -0400 (Tue, 16 Apr 2024)
EllapsedTime: 1854.5 seconds
RetCode: 0
Status: OK
PackageFile: TCGAWorkflow_1.26.0.tar.gz
PackageFileSize: 1.998 <A href="http://en.wikipedia.org/wiki/MiB" target="_blank">MiB</A>