Package: annotation Version: 1.26.0 Command: chmod a+r annotation -R && F:\biocbuild\bbs-3.18-bioc\R\bin\R.exe CMD build --keep-empty-dirs --no-resave-data annotation StartedAt: 2024-04-16 11:05:21 -0400 (Tue, 16 Apr 2024) EndedAt: 2024-04-16 11:10:13 -0400 (Tue, 16 Apr 2024) EllapsedTime: 292.2 seconds RetCode: 1 Status: ERROR PackageFile: None PackageFileSize: NA