Package: fluentGenomics Version: 1.14.0 Maintainer: Stuart Lee MaintainerEmail: stuart.andrew.lee at gmail.com git_url: https://git.bioconductor.org/packages/fluentGenomics git_branch: RELEASE_3_18 git_last_commit: 5141dcc git_last_commit_date: 2023-10-24 08:47:38 -0400 (Tue, 24 Oct 2023)