Package: methylationArrayAnalysis Version: 1.26.0 Command: /Library/Frameworks/R.framework/Resources/bin/R CMD INSTALL methylationArrayAnalysis StartedAt: 2024-04-16 11:02:40 -0400 (Tue, 16 Apr 2024) EndedAt: 2024-04-16 11:08:01 -0400 (Tue, 16 Apr 2024) EllapsedTime: 321.3 seconds RetCode: 0 Status: OK