Package: variants Version: 1.26.0 Command: /home/biocbuild/bbs-3.18-bioc/R/bin/R CMD build --keep-empty-dirs --no-resave-data variants StartedAt: 2024-04-16 11:06:14 -0400 (Tue, 16 Apr 2024) EndedAt: 2024-04-16 11:07:37 -0400 (Tue, 16 Apr 2024) EllapsedTime: 83.3 seconds RetCode: 0 Status: OK PackageFile: variants_1.26.0.tar.gz PackageFileSize: 4.84 MiB