Package: ACE Version: 1.22.0 Command: chmod a+r ACE -R && F:\biocbuild\bbs-3.19-bioc\R\bin\R.exe CMD build --keep-empty-dirs --no-resave-data ACE StartedAt: 2024-06-26 17:00:52 -0400 (Wed, 26 Jun 2024) EndedAt: 2024-06-26 17:02:05 -0400 (Wed, 26 Jun 2024) EllapsedTime: 73.3 seconds RetCode: 0 Status: OK PackageFile: ACE_1.22.0.tar.gz PackageFileSize: 835.8 KiB