Package: ACME Version: 2.60.0 Command: rm -rf ACME.buildbin-libdir && mkdir ACME.buildbin-libdir && /Users/biocbuild/BBS/utils/build-universal.sh ACME_2.60.0.tar.gz /Library/Frameworks/R.framework/Resources/bin/R ACME.buildbin-libdir StartedAt: 2024-10-18 17:11:21 -0400 (Fri, 18 Oct 2024) EndedAt: 2024-10-18 17:11:34 -0400 (Fri, 18 Oct 2024) EllapsedTime: 13.5 seconds RetCode: 0 Status: OK PackageFile: ACME_2.60.0.tgz PackageFileSize: 10.15 MiB