Package: ACME Version: 2.60.0 Command: /Library/Frameworks/R.framework/Resources/bin/R CMD build --keep-empty-dirs --no-resave-data ACME StartedAt: 2024-10-16 16:58:27 -0400 (Wed, 16 Oct 2024) EndedAt: 2024-10-16 16:59:25 -0400 (Wed, 16 Oct 2024) EllapsedTime: 57.9 seconds RetCode: 0 Status: OK PackageFile: ACME_2.60.0.tar.gz PackageFileSize: 9.91 MiB